BEGIN:VCALENDAR
VERSION:2.0
PRODID:-//Centrum Kultury i Historii Wahadło - ECPv6.15.17//NONSGML v1.0//EN
CALSCALE:GREGORIAN
METHOD:PUBLISH
X-WR-CALNAME:Centrum Kultury i Historii Wahadło
X-ORIGINAL-URL:https://wahadlo.brzesckujawski.pl
X-WR-CALDESC:Wydarzenia dla Centrum Kultury i Historii Wahadło
REFRESH-INTERVAL;VALUE=DURATION:PT1H
X-Robots-Tag:noindex
X-PUBLISHED-TTL:PT1H
BEGIN:VTIMEZONE
TZID:Europe/Warsaw
BEGIN:DAYLIGHT
TZOFFSETFROM:+0100
TZOFFSETTO:+0200
TZNAME:CEST
DTSTART:20250330T010000
END:DAYLIGHT
BEGIN:STANDARD
TZOFFSETFROM:+0200
TZOFFSETTO:+0100
TZNAME:CET
DTSTART:20251026T010000
END:STANDARD
BEGIN:DAYLIGHT
TZOFFSETFROM:+0100
TZOFFSETTO:+0200
TZNAME:CEST
DTSTART:20260329T010000
END:DAYLIGHT
BEGIN:STANDARD
TZOFFSETFROM:+0200
TZOFFSETTO:+0100
TZNAME:CET
DTSTART:20261025T010000
END:STANDARD
BEGIN:DAYLIGHT
TZOFFSETFROM:+0100
TZOFFSETTO:+0200
TZNAME:CEST
DTSTART:20270328T010000
END:DAYLIGHT
BEGIN:STANDARD
TZOFFSETFROM:+0200
TZOFFSETTO:+0100
TZNAME:CET
DTSTART:20271031T010000
END:STANDARD
END:VTIMEZONE
BEGIN:VEVENT
DTSTART;TZID=Europe/Warsaw:20260705T150000
DTEND;TZID=Europe/Warsaw:20260705T150000
DTSTAMP:20260425T185159
CREATED:20260209T122249Z
LAST-MODIFIED:20260209T122251Z
UID:31078-1783263600-1783263600@wahadlo.brzesckujawski.pl
SUMMARY:Brzeskie Spotkania Teatrów Ulicznych "GramOFFon"
DESCRIPTION:Wkrótce więcej informacji
URL:https://wahadlo.brzesckujawski.pl/event/brzeskie-spotkania-teatrow-ulicznych-gramoffon/
END:VEVENT
END:VCALENDAR